BEGIN:VCALENDAR
VERSION:2.0
PRODID:-//hacksw/handcal//NONSGML v1.0//EN
BEGIN:VEVENT
SUMMARY:M8, M10 PLATEAU AU CRIG
UID:ae0fe71b-2cfb-47c2-b8a4-1ab5081c9244
DTSTART:20260328T130000Z
DTEND:20260328T160000Z
LOCATION:Localisation   
CATEGORIES:Sportif
STATUS:
URL;VALUE=URI:https://www.rugbyclub-saintlouis.com/evenements/2026/03/28/m8-m10-plateau-au-crig-2425405
END:VEVENT
END:VCALENDAR
